BEGIN:VCALENDAR
VERSION:2.0
PRODID:\"Tarde Mágica De Natal\"
X-WR-CALNAME:\"Tarde Mágica De Natal\"
X-WR-TIMEZONE:Europe/Lisbon
X-PUBLISHED-TTL:P1W
BEGIN:VTIMEZONE
TZID:Europe/Lisbon
X-LIC-LOCATION:Europe/Lisbon
END:VTIMEZONE
BEGIN:VEVENT
UID:69eafbec90ffa
DTSTART;VALUE=DATE:20251221
SEQUENCE:0
TRANSP:OPAQUE
DTEND;VALUE=DATE:20251222
SUMMARY:\"Tarde Mágica De Natal\"
CLASS:PUBLIC
DESCRIPTION:&nbsp\;No próximo domingo\, 21 de dezembro\, entre as 15h e as
  18h\, a Sociedade Filarmónica Unânime Praiense enche-se de espírito na
 talício para uma tarde especial\, promovida pela Junta de Freguesia.Entra
 da gratuita para todos!Prepare-se para momentos de alegria e convívio\, p
 ensados para toda a família:&nbsp\;Venda de artesanato\, com peças únic
 as criadas pelos nossos artesãosDoces com sabores irresistíveisInsufláv
 el para garantir a diversão das criançasAtividades infantis alusivas à 
 época festivaPinturas faciaisVenha celebrar connosco\, divertir-se e sent
 ir a magia do Natal num ambiente acolhedor e cheio de alegria.
X-MICROSOFT-CDO-ALLDAYEVENT:TRUE
DTSTAMP:20260424T051316Z
END:VEVENT
END:VCALENDAR